BEGIN:VCALENDAR
PRODID:-//PUBBLE//agenda//NL
VERSION:2.0
METHOD:PUBLISH
BEGIN:VEVENT
DTSTART:20240707T120000Z
DTEND:20240707T133000Z
DTSTAMP:20260420T235213Z
UID:75b8d4c7-5165-410d-bb03-ca028c608ce6
CREATED:20260420T235213Z
NAME:StoryTrail stadswandeling door Gorinchem vol historische verhalen destadgorinchem.nl
X-WR-CALNAME:StoryTrail stadswandeling door Gorinchem vol historische verhalen
X-ALT-DESC;FMTTYPE=text/html:<a href='/agenda/2024/7/7/storytrail-stadswandeling-door-gorinchem-vol-historische-verhalen-1038654'>/agenda/2024/7/7/storytrail-stadswandeling-door-gorinchem-vol-historische-verhalen-1038654</a> || <p>Ridders, marskramers, kwaaie poorters en verliefde jonkvrouwen: je kunt ze allemaal tegenkomen tijdens de StoryTrail Theaterwandeling door Gorinchem. Op zondag 7 juli gidst verhalenverteller Hubertus je door de bewogen stadsgeschiedenis. <br><br>Onderweg beleef je de mooiste verhalen uit de Gorcumse historie. Over Jan de Sterke bijvoorbeeld, de onoverwinnelijke krachtpatser. Over zijn duivelse neef. Over Hoeken en Kabeljauwen. Over oorlog, liefde en list. Én over een arme Gorcumse marskramer die schathemeltje rijk werd. <br><br>Dwalend door de mooie binnenstad waan je je anderhalf uur lang in een andere tijd. Ga mee en geniet van een heerlijk vertelavontuur!<br><br>De StoryTrail Theaterwandeling Gorinchem begint op zondag 7 juli 2024 om 14:00 uur. Reserveren is noodzakelijk: www.StoryTrail.nl. Reserveer nu met kortingscode STORYTRAIL-7337KRT en betaal slechts € 17,50 per persoon (kinderen: € 11,05).</p>
DESCRIPTION:<a href='/agenda/2024/7/7/storytrail-stadswandeling-door-gorinchem-vol-historische-verhalen-1038654'>/agenda/2024/7/7/storytrail-stadswandeling-door-gorinchem-vol-historische-verhalen-1038654</a> || <p>Ridders, marskramers, kwaaie poorters en verliefde jonkvrouwen: je kunt ze allemaal tegenkomen tijdens de StoryTrail Theaterwandeling door Gorinchem. Op zondag 7 juli gidst verhalenverteller Hubertus je door de bewogen stadsgeschiedenis. <br><br>Onderweg beleef je de mooiste verhalen uit de Gorcumse historie. Over Jan de Sterke bijvoorbeeld, de onoverwinnelijke krachtpatser. Over zijn duivelse neef. Over Hoeken en Kabeljauwen. Over oorlog, liefde en list. Én over een arme Gorcumse marskramer die schathemeltje rijk werd. <br><br>Dwalend door de mooie binnenstad waan je je anderhalf uur lang in een andere tijd. Ga mee en geniet van een heerlijk vertelavontuur!<br><br>De StoryTrail Theaterwandeling Gorinchem begint op zondag 7 juli 2024 om 14:00 uur. Reserveren is noodzakelijk: www.StoryTrail.nl. Reserveer nu met kortingscode STORYTRAIL-7337KRT en betaal slechts € 17,50 per persoon (kinderen: € 11,05).</p>
LAST-MODIFIED:20260420T235213Z
LOCATION: Binnenstad |  64 Gorinchem
SEQUENCE:0
STATUS:CONFIRMED
SUMMARY:StoryTrail stadswandeling door Gorinchem vol historische verhalen
TRANSP:OPAQUE
END:VEVENT
END:VCALENDAR
