BEGIN:VCALENDAR
PRODID:-//PUBBLE//agenda//NL
VERSION:2.0
METHOD:PUBLISH
BEGIN:VEVENT
DTSTART:20250907T120000Z
DTEND:20250907T133000Z
DTSTAMP:20260420T234021Z
UID:55bfa6b0-61e3-4912-8444-ee3455fb3ea1
CREATED:20260420T234021Z
NAME:StoryTrail Theaterwandeling Gorinchem destadgorinchem.nl
X-WR-CALNAME:StoryTrail Theaterwandeling Gorinchem
X-ALT-DESC;FMTTYPE=text/html:<a href='/agenda/2025/9/7/storytrail-theaterwandeling-gorinchem-1174091'>/agenda/2025/9/7/storytrail-theaterwandeling-gorinchem-1174091</a> || <p><strong>Hou je van geschiedenis en sterke verhalen? Dan is de StoryTrail Theaterwandeling Gorinchem echt iets voor jou. Op zondag 7 september neemt StoryTrail-verteller Hubertus je mee op een stadswandeling vol eeuwenoude sagen en legenden.&nbsp;</strong><br><br>De StoryTrail Theaterwandeling Gorinchem is een historische rondleiding en een verteltheatervoorstelling in één. Hubertus laat je de mooiste en spannendste verhalen uit de stadshistorie beleven. Verhalen over verlangen, strijd, liefde en heldenmoed. Onderweg ontmoet je de krachtpatsers, oplichters, weldoeners en vrijheidsstrijders uit het verre verleden. Dus spits je oren en houd je adem in, want samen nemen we een duik in de verborgen geschiedenis van de beeldschone stad aan de Merwede. Wees welkom en ga mee op avontuur!<br><br><em>De StoryTrail Theaterwandeling Gorinchem begint op zondag 7 september 2025 om 14:00 uur. Reserveren is noodzakelijk: www.StoryTrail.nl. Reserveer nu als Early Bird voor € 19,00 of gebruik de kortingscode STORYTRAIL-377TR.</em></p>
DESCRIPTION:<a href='/agenda/2025/9/7/storytrail-theaterwandeling-gorinchem-1174091'>/agenda/2025/9/7/storytrail-theaterwandeling-gorinchem-1174091</a> || <p><strong>Hou je van geschiedenis en sterke verhalen? Dan is de StoryTrail Theaterwandeling Gorinchem echt iets voor jou. Op zondag 7 september neemt StoryTrail-verteller Hubertus je mee op een stadswandeling vol eeuwenoude sagen en legenden.&nbsp;</strong><br><br>De StoryTrail Theaterwandeling Gorinchem is een historische rondleiding en een verteltheatervoorstelling in één. Hubertus laat je de mooiste en spannendste verhalen uit de stadshistorie beleven. Verhalen over verlangen, strijd, liefde en heldenmoed. Onderweg ontmoet je de krachtpatsers, oplichters, weldoeners en vrijheidsstrijders uit het verre verleden. Dus spits je oren en houd je adem in, want samen nemen we een duik in de verborgen geschiedenis van de beeldschone stad aan de Merwede. Wees welkom en ga mee op avontuur!<br><br><em>De StoryTrail Theaterwandeling Gorinchem begint op zondag 7 september 2025 om 14:00 uur. Reserveren is noodzakelijk: www.StoryTrail.nl. Reserveer nu als Early Bird voor € 19,00 of gebruik de kortingscode STORYTRAIL-377TR.</em></p>
LAST-MODIFIED:20260420T234021Z
LOCATION: Binnenstad |  64 Gorinchem
SEQUENCE:0
STATUS:CONFIRMED
SUMMARY:StoryTrail Theaterwandeling Gorinchem
TRANSP:OPAQUE
END:VEVENT
END:VCALENDAR
