BEGIN:VCALENDAR
PRODID:-//PUBBLE//agenda//NL
VERSION:2.0
METHOD:PUBLISH
BEGIN:VEVENT
DTSTART:20250906T183000Z
DTEND:20250906T200000Z
DTSTAMP:20260421T012818Z
UID:1cd228b6-f800-45d7-88ee-44866e1c77d2
CREATED:20260421T012818Z
NAME:Zet je schrap voor een theatervoorstelling die het randje opzoekt! destadgorinchem.nl
X-WR-CALNAME:Zet je schrap voor een theatervoorstelling die het randje opzoekt!
X-ALT-DESC;FMTTYPE=text/html:<a href='/agenda/2025/9/6/zet-je-schrap-voor-een-theatervoorstelling-die-het-randje-opzoekt--1181816'>/agenda/2025/9/6/zet-je-schrap-voor-een-theatervoorstelling-die-het-randje-opzoekt--1181816</a> || <p>Het theaterseizoen gaat van start met twee Haagse bloedbroeders, Fred Delfgaauw en Sjaak Bral. Zij bundelen hun krachten in een wervelende avond vol onverwachte wendingen. Krankzinnige humor, scherpe grappen, onnavolgbare improvisaties: bij deze twee theaterdieren is niets te gek. Een avond Haagse humor met een rauw randje en interactie met het publiek – geen stoel is veilig! &nbsp;</p><p>Voor iedereen die houdt van humor die ver buiten de lijntjes kleurt. Heb je een sterke maag en een stevige dosis zelfspot? Dan is deze avond voor jou. Smaakvol wordt het niet, maar lachen zul je zeker.</p><p>Let op: deze voorstelling is komend seizoen nergens anders te beleven dan bij ons in Theater Peeriscoop!</p><p>De entree bedraagt € 21,50 inclusief een consumptie. De voorstelling begint om 20.30 uur. Kassa en foyer zijn een uur voor aanvang geopend.&nbsp;</p>
DESCRIPTION:<a href='/agenda/2025/9/6/zet-je-schrap-voor-een-theatervoorstelling-die-het-randje-opzoekt--1181816'>/agenda/2025/9/6/zet-je-schrap-voor-een-theatervoorstelling-die-het-randje-opzoekt--1181816</a> || <p>Het theaterseizoen gaat van start met twee Haagse bloedbroeders, Fred Delfgaauw en Sjaak Bral. Zij bundelen hun krachten in een wervelende avond vol onverwachte wendingen. Krankzinnige humor, scherpe grappen, onnavolgbare improvisaties: bij deze twee theaterdieren is niets te gek. Een avond Haagse humor met een rauw randje en interactie met het publiek – geen stoel is veilig! &nbsp;</p><p>Voor iedereen die houdt van humor die ver buiten de lijntjes kleurt. Heb je een sterke maag en een stevige dosis zelfspot? Dan is deze avond voor jou. Smaakvol wordt het niet, maar lachen zul je zeker.</p><p>Let op: deze voorstelling is komend seizoen nergens anders te beleven dan bij ons in Theater Peeriscoop!</p><p>De entree bedraagt € 21,50 inclusief een consumptie. De voorstelling begint om 20.30 uur. Kassa en foyer zijn een uur voor aanvang geopend.&nbsp;</p>
LAST-MODIFIED:20260421T012818Z
LOCATION: Theater Peeriscoop | Boerenstraat 11B Gorinchem
SEQUENCE:0
STATUS:CONFIRMED
SUMMARY:Zet je schrap voor een theatervoorstelling die het randje opzoekt!
TRANSP:OPAQUE
END:VEVENT
END:VCALENDAR
