BEGIN:VCALENDAR
PRODID:-//PUBBLE//agenda//NL
VERSION:2.0
METHOD:PUBLISH
BEGIN:VEVENT
DTSTART:20250927T183000Z
DTEND:20250927T200000Z
DTSTAMP:20260420T214947Z
UID:b030c4c8-19c2-444b-9ddd-f8d24da0b512
CREATED:20260420T214947Z
NAME:Hoe nieuwsgierig durf jij te zijn? destadgorinchem.nl
X-WR-CALNAME:Hoe nieuwsgierig durf jij te zijn?
X-ALT-DESC;FMTTYPE=text/html:<a href='/agenda/2025/9/27/hoe-nieuwsgierig-durf-jij-te-zijn--1181820'>/agenda/2025/9/27/hoe-nieuwsgierig-durf-jij-te-zijn--1181820</a> || <p>Jochem Nooyen neemt het publiek in deze interactieve show mee met humor, meeslepende verhalen en verwondering. Het is een speelse reis door het onbekende in een wonderlijke wereld vol magie en verhalen.&nbsp;</p><p>‘Nieuwsgierigheid’ is een magische voorstelling over nieuwsgierig zijn naar elkaar en de wereld om je heen. Je wordt uitgedaagd om je blik op de wereld, op anderen en op jezelf te verruimen.</p><p>Ooit geloofden we dat de aarde plat was. Wat nemen wij vandaag voor waar aan, waarvan we later denken: hoe konden we dat ooit zeker weten? Een avond vol magie, inzichten en verrassingen.</p><p>Een voorstelling waarin niets is wat het lijkt, maar alles je blik verruimt.</p><p>De entree bedraagt € 21,50 inclusief een consumptie. De voorstelling begint om 20.30 uur. Kassa en foyer zijn een uur voor aanvang geopend.&nbsp;</p><p>https://www.peeriscoop.nl/voorstellingen/voorstellingoverzicht/nieuwsgierigheid/</p>
DESCRIPTION:<a href='/agenda/2025/9/27/hoe-nieuwsgierig-durf-jij-te-zijn--1181820'>/agenda/2025/9/27/hoe-nieuwsgierig-durf-jij-te-zijn--1181820</a> || <p>Jochem Nooyen neemt het publiek in deze interactieve show mee met humor, meeslepende verhalen en verwondering. Het is een speelse reis door het onbekende in een wonderlijke wereld vol magie en verhalen.&nbsp;</p><p>‘Nieuwsgierigheid’ is een magische voorstelling over nieuwsgierig zijn naar elkaar en de wereld om je heen. Je wordt uitgedaagd om je blik op de wereld, op anderen en op jezelf te verruimen.</p><p>Ooit geloofden we dat de aarde plat was. Wat nemen wij vandaag voor waar aan, waarvan we later denken: hoe konden we dat ooit zeker weten? Een avond vol magie, inzichten en verrassingen.</p><p>Een voorstelling waarin niets is wat het lijkt, maar alles je blik verruimt.</p><p>De entree bedraagt € 21,50 inclusief een consumptie. De voorstelling begint om 20.30 uur. Kassa en foyer zijn een uur voor aanvang geopend.&nbsp;</p><p>https://www.peeriscoop.nl/voorstellingen/voorstellingoverzicht/nieuwsgierigheid/</p>
LAST-MODIFIED:20260420T214947Z
LOCATION: Theater Peeriscoop | Boerenstraat 11B Gorinchem
SEQUENCE:0
STATUS:CONFIRMED
SUMMARY:Hoe nieuwsgierig durf jij te zijn?
TRANSP:OPAQUE
END:VEVENT
END:VCALENDAR
