BEGIN:VCALENDAR
PRODID:-//PUBBLE//agenda//NL
VERSION:2.0
METHOD:PUBLISH
BEGIN:VEVENT
DTSTART:20251011T183000Z
DTEND:20251011T200000Z
DTSTAMP:20260420T231831Z
UID:17c14f2a-0877-4fff-ae5a-86e37afb41f3
CREATED:20260420T231831Z
NAME:Een rasartiest met vrolijk en serieus repertoire destadgorinchem.nl
X-WR-CALNAME:Een rasartiest met vrolijk en serieus repertoire
X-ALT-DESC;FMTTYPE=text/html:<a href='/agenda/2025/10/11/een-rasartiest-met-vrolijk-en-serieus-repertoire-1181832'>/agenda/2025/10/11/een-rasartiest-met-vrolijk-en-serieus-repertoire-1181832</a> || <p>Gerard Alderliefste staat dertig jaar op het podium en viert dat met ‘Mijn Favorieten’. Nooit kwam u zo dicht bij Gerard in een persoonlijke show waarin hij zijn verhaal combineert met eigen werk, zijn favoriete Franse chansons en songs van Ramses Shaffy.</p><p>Samen met het publiek legt hij zijn muzikale weg opnieuw af. De weg die hem naar huiskamers, bruiloften, partijen, festivals en ontelbare theaters leidde. Die hem samenwerkingen bracht met mensen als Ramses Shaffy, Liesbeth List, Paul de Leeuw en Cor Bakker. Een weg met één rode draad: spelplezier. De liefde voor muziek.&nbsp;</p><p>Gerard wordt begeleid door de hartverwarmende viool van de charismatische&nbsp;Maria Eldering&nbsp;uit het octet Gerard Alderliefste &amp; Friends.</p><p>De entree bedraagt € 21,50 inclusief een consumptie. De voorstelling begint om 20.30 uur. Kassa en foyer zijn een uur voor aanvang geopend.&nbsp;</p>
DESCRIPTION:<a href='/agenda/2025/10/11/een-rasartiest-met-vrolijk-en-serieus-repertoire-1181832'>/agenda/2025/10/11/een-rasartiest-met-vrolijk-en-serieus-repertoire-1181832</a> || <p>Gerard Alderliefste staat dertig jaar op het podium en viert dat met ‘Mijn Favorieten’. Nooit kwam u zo dicht bij Gerard in een persoonlijke show waarin hij zijn verhaal combineert met eigen werk, zijn favoriete Franse chansons en songs van Ramses Shaffy.</p><p>Samen met het publiek legt hij zijn muzikale weg opnieuw af. De weg die hem naar huiskamers, bruiloften, partijen, festivals en ontelbare theaters leidde. Die hem samenwerkingen bracht met mensen als Ramses Shaffy, Liesbeth List, Paul de Leeuw en Cor Bakker. Een weg met één rode draad: spelplezier. De liefde voor muziek.&nbsp;</p><p>Gerard wordt begeleid door de hartverwarmende viool van de charismatische&nbsp;Maria Eldering&nbsp;uit het octet Gerard Alderliefste &amp; Friends.</p><p>De entree bedraagt € 21,50 inclusief een consumptie. De voorstelling begint om 20.30 uur. Kassa en foyer zijn een uur voor aanvang geopend.&nbsp;</p>
LAST-MODIFIED:20260420T231831Z
LOCATION: Theater Peeriscoop | Boerenstraat 11B Gorinchem
SEQUENCE:0
STATUS:CONFIRMED
SUMMARY:Een rasartiest met vrolijk en serieus repertoire
TRANSP:OPAQUE
END:VEVENT
END:VCALENDAR
