BEGIN:VCALENDAR
PRODID:-//PUBBLE//agenda//NL
VERSION:2.0
METHOD:PUBLISH
BEGIN:VEVENT
DTSTART:20251026T140000Z
DTEND:20251026T150000Z
DTSTAMP:20260420T200330Z
UID:721a34f8-a0fe-46b4-8d80-8d2ba0e23875
CREATED:20260420T200330Z
NAME:Een vrolijke boekpresentatie over een hartverscheurend verhaal destadgorinchem.nl
X-WR-CALNAME:Een vrolijke boekpresentatie over een hartverscheurend verhaal
X-ALT-DESC;FMTTYPE=text/html:<a href='/agenda/2025/10/26/een-vrolijke-boekpresentatie-over-een-hartverscheurend-verhaal-1181856'>/agenda/2025/10/26/een-vrolijke-boekpresentatie-over-een-hartverscheurend-verhaal-1181856</a> || <p>Multi-instrumentalist Ad Grooten staat bekend als het creatieve brein achter bands als Pater Moeskroen en Mannen van Naam. In ELLEN LACHT onderzoekt hij - samen met zijn jongere broer Coen - het bijzondere leven van hun moeder Ellen. Zij overleefde als kind de&nbsp;Japanse interneringskampen en vond later op Curaçao het geluk. Een hartverscheurend levensverhaal, dat desondanks tot een opmerkelijk vrolijke voorstelling heeft geleid. Zoals hun moeder was, met haar immer optimistische levenshouding.</p><p>Het idee voor dit project – boek, album en theatertoer – ontstond toen Ad een paar dozen vol oude brieven opende en zich afvroeg hoe het toch mogelijk was dat zijn moeder zó ongelooflijk positief in het leven stond na wat ze in de oorlog, maar ook daarna allemaal heeft moeten doorstaan.&nbsp;</p><p>De entree bedraagt € 17,50 inclusief consumptie. De voorstelling begint om 16.00 uur. Kassa en foyer zijn een uur voor aanvang geopend. Het programma op de zondagmiddag duurt een uur en na afloop staat een hapjestafel voor u klaar.</p>
DESCRIPTION:<a href='/agenda/2025/10/26/een-vrolijke-boekpresentatie-over-een-hartverscheurend-verhaal-1181856'>/agenda/2025/10/26/een-vrolijke-boekpresentatie-over-een-hartverscheurend-verhaal-1181856</a> || <p>Multi-instrumentalist Ad Grooten staat bekend als het creatieve brein achter bands als Pater Moeskroen en Mannen van Naam. In ELLEN LACHT onderzoekt hij - samen met zijn jongere broer Coen - het bijzondere leven van hun moeder Ellen. Zij overleefde als kind de&nbsp;Japanse interneringskampen en vond later op Curaçao het geluk. Een hartverscheurend levensverhaal, dat desondanks tot een opmerkelijk vrolijke voorstelling heeft geleid. Zoals hun moeder was, met haar immer optimistische levenshouding.</p><p>Het idee voor dit project – boek, album en theatertoer – ontstond toen Ad een paar dozen vol oude brieven opende en zich afvroeg hoe het toch mogelijk was dat zijn moeder zó ongelooflijk positief in het leven stond na wat ze in de oorlog, maar ook daarna allemaal heeft moeten doorstaan.&nbsp;</p><p>De entree bedraagt € 17,50 inclusief consumptie. De voorstelling begint om 16.00 uur. Kassa en foyer zijn een uur voor aanvang geopend. Het programma op de zondagmiddag duurt een uur en na afloop staat een hapjestafel voor u klaar.</p>
LAST-MODIFIED:20260420T200330Z
LOCATION: Theater Peeriscoop | Boerenstraat 11B Gorinchem
SEQUENCE:0
STATUS:CONFIRMED
SUMMARY:Een vrolijke boekpresentatie over een hartverscheurend verhaal
TRANSP:OPAQUE
END:VEVENT
END:VCALENDAR
