BEGIN:VCALENDAR
PRODID:-//PUBBLE//agenda//NL
VERSION:2.0
METHOD:PUBLISH
BEGIN:VEVENT
DTSTART:20251101T183000Z
DTEND:20251101T200000Z
DTSTAMP:20260420T194419Z
UID:aebf6ba3-619e-4475-b24c-62784650cd2f
CREATED:20260420T194419Z
NAME:Een dynamische muzikale film reis destadgorinchem.nl
X-WR-CALNAME:Een dynamische muzikale film reis
X-ALT-DESC;FMTTYPE=text/html:<a href='/agenda/2025/11/1/een-dynamische-muzikale-film-reis-1181860'>/agenda/2025/11/1/een-dynamische-muzikale-film-reis-1181860</a> || <p>Deze bijzondere voorstelling is een cross-over project van het Sunrise Trio waar livemuziek en oude film elkaar ontmoeten. Het idee ontstond na het zien van de stomme film ‘Sunrise: A Song of Two Humans’ uit 1927 van regisseur F.W. Murnau. Deze film, met maar liefst 3 Oscars, maakte veel indruk op de muzikanten en bracht ze op een idee: Hoe zou deze film klinken met eigen gecomponeerde muziek? Ze schreven een volledig nieuwe filmscore. Het resultaat: ‘Silent Film meets Modern Jazz.’&nbsp;</p><p>In de film krijgt een man van zijn minnares opdracht zijn vrouw te vermoorden. Tijdens zijn pogingen wordt hij echter weer opnieuw verliefd op haar. Bij dit concert zal de band live met de film meespelen. Invloeden uit jazz, funk, metal en rock komen samen in een dynamische en toegankelijke soundtrack. Een unieke manier om muziek te combineren met klassieke (stomme) film.</p><p>Een must-see voor liefhebbers van film en muziek.</p><p>De entree bedraagt € 21,50 inclusief een consumptie. De voorstelling begint om 20.30 uur. Kassa en foyer zijn een uur voor aanvang geopend.&nbsp;</p>
DESCRIPTION:<a href='/agenda/2025/11/1/een-dynamische-muzikale-film-reis-1181860'>/agenda/2025/11/1/een-dynamische-muzikale-film-reis-1181860</a> || <p>Deze bijzondere voorstelling is een cross-over project van het Sunrise Trio waar livemuziek en oude film elkaar ontmoeten. Het idee ontstond na het zien van de stomme film ‘Sunrise: A Song of Two Humans’ uit 1927 van regisseur F.W. Murnau. Deze film, met maar liefst 3 Oscars, maakte veel indruk op de muzikanten en bracht ze op een idee: Hoe zou deze film klinken met eigen gecomponeerde muziek? Ze schreven een volledig nieuwe filmscore. Het resultaat: ‘Silent Film meets Modern Jazz.’&nbsp;</p><p>In de film krijgt een man van zijn minnares opdracht zijn vrouw te vermoorden. Tijdens zijn pogingen wordt hij echter weer opnieuw verliefd op haar. Bij dit concert zal de band live met de film meespelen. Invloeden uit jazz, funk, metal en rock komen samen in een dynamische en toegankelijke soundtrack. Een unieke manier om muziek te combineren met klassieke (stomme) film.</p><p>Een must-see voor liefhebbers van film en muziek.</p><p>De entree bedraagt € 21,50 inclusief een consumptie. De voorstelling begint om 20.30 uur. Kassa en foyer zijn een uur voor aanvang geopend.&nbsp;</p>
LAST-MODIFIED:20260420T194419Z
LOCATION: Theater Peeriscoop | Boerenstraat 11B Gorinchem
SEQUENCE:0
STATUS:CONFIRMED
SUMMARY:Een dynamische muzikale film reis
TRANSP:OPAQUE
END:VEVENT
END:VCALENDAR
