BEGIN:VCALENDAR
PRODID:-//PUBBLE//agenda//NL
VERSION:2.0
METHOD:PUBLISH
BEGIN:VEVENT
DTSTART:20250801T082959Z
DTEND:20250801T092959Z
DTSTAMP:20260421T000233Z
UID:92b2b259-47ba-4608-a85e-389edac940cd
CREATED:20260421T000233Z
NAME:De Verwonderingstocht: wandel mee met kunstenaar Nathalie Geurts tijdens Culturele Zondag Gorinchem destadgorinchem.nl
X-WR-CALNAME:De Verwonderingstocht: wandel mee met kunstenaar Nathalie Geurts tijdens Culturele Zondag Gorinchem
X-ALT-DESC;FMTTYPE=text/html:<a href='/agenda/2025/8/10/de-verwonderingstocht-wandel-mee-met-kunstenaar-nathalie-geurts-tijdens-culturele-zondag-gorinchem-1187967'>/agenda/2025/8/10/de-verwonderingstocht-wandel-mee-met-kunstenaar-nathalie-geurts-tijdens-culturele-zondag-gorinchem-1187967</a> || <p>Tijdens de Culturele Zondag op 10 augustus biedt Symposion een bijzondere activiteit aan: die dag kunnen kunstliefhebbers meewandelen met De Verwonderingstocht van kunstenaar Nathalie Geurts. Zij neemt de deelnemers mee voor een inspirerende wandeling rond de Kruitmagazijnen, waar zij momenteel samen met Helin Tazelaar exposeert.<br /><br />Tijdens de tocht verzamelen de deelnemers voorwerpen die verrassen, raken of intrigeren. Samen met Nathalie orden en fotograferen ze deze vondsten. Een selectie krijgt zelfs een plekje in de tentoonstelling Vormverlangen, die nog t/m 14 september in de Kruitmagazijnen te zien is. De wandeling wordt afgesloten met een verfrissend drankje.</p><p>De start van De Verwonderingstocht is om&nbsp;13.30 uur (verzamelen vanaf 13.15 uur). Duur:&nbsp;ca. 1,5 uur.<br />Aanmelden kan t/m 8 augustus via <a href="https://www.symposion-gorinchem.nl/geen-categorie/laat-je-verwonderen-door-symposion-tijdens-de-culturele-zondag/" target="_blank">https://www.symposion-gorinchem.nl/geen-categorie/laat-je-verwonderen-door-symposion-tijdens-de-culturele-zondag/</a><br />Deelname is gratis – een donatie voor de kunstenaar wordt gewaardeerd. Er is op de dag zelf een QR-code aanwezig voor directe donaties.<br /><br />Klik op <a href="https://www.nathaliegeurts.com/verwonderingstocht" target="_blank">https://www.nathaliegeurts.com/verwonderingstocht</a> voor meer informatie of om de tocht zelf te lopen.</p>
DESCRIPTION:<a href='/agenda/2025/8/10/de-verwonderingstocht-wandel-mee-met-kunstenaar-nathalie-geurts-tijdens-culturele-zondag-gorinchem-1187967'>/agenda/2025/8/10/de-verwonderingstocht-wandel-mee-met-kunstenaar-nathalie-geurts-tijdens-culturele-zondag-gorinchem-1187967</a> || <p>Tijdens de Culturele Zondag op 10 augustus biedt Symposion een bijzondere activiteit aan: die dag kunnen kunstliefhebbers meewandelen met De Verwonderingstocht van kunstenaar Nathalie Geurts. Zij neemt de deelnemers mee voor een inspirerende wandeling rond de Kruitmagazijnen, waar zij momenteel samen met Helin Tazelaar exposeert.<br /><br />Tijdens de tocht verzamelen de deelnemers voorwerpen die verrassen, raken of intrigeren. Samen met Nathalie orden en fotograferen ze deze vondsten. Een selectie krijgt zelfs een plekje in de tentoonstelling Vormverlangen, die nog t/m 14 september in de Kruitmagazijnen te zien is. De wandeling wordt afgesloten met een verfrissend drankje.</p><p>De start van De Verwonderingstocht is om&nbsp;13.30 uur (verzamelen vanaf 13.15 uur). Duur:&nbsp;ca. 1,5 uur.<br />Aanmelden kan t/m 8 augustus via <a href="https://www.symposion-gorinchem.nl/geen-categorie/laat-je-verwonderen-door-symposion-tijdens-de-culturele-zondag/" target="_blank">https://www.symposion-gorinchem.nl/geen-categorie/laat-je-verwonderen-door-symposion-tijdens-de-culturele-zondag/</a><br />Deelname is gratis – een donatie voor de kunstenaar wordt gewaardeerd. Er is op de dag zelf een QR-code aanwezig voor directe donaties.<br /><br />Klik op <a href="https://www.nathaliegeurts.com/verwonderingstocht" target="_blank">https://www.nathaliegeurts.com/verwonderingstocht</a> voor meer informatie of om de tocht zelf te lopen.</p>
LAST-MODIFIED:20260421T000233Z
LOCATION: Kruitmagazijnen | Dalemwal 19a Gorinchem
SEQUENCE:0
STATUS:CONFIRMED
SUMMARY:De Verwonderingstocht: wandel mee met kunstenaar Nathalie Geurts tijdens Culturele Zondag Gorinchem
TRANSP:OPAQUE
END:VEVENT
END:VCALENDAR
