BEGIN:VCALENDAR
PRODID:-//PUBBLE//agenda//NL
VERSION:2.0
METHOD:PUBLISH
BEGIN:VEVENT
DTSTART:20250927T173000Z
DTEND:20250927T193000Z
DTSTAMP:20260420T214949Z
UID:b6ec6617-3a8a-4b07-9df6-897dced9f868
CREATED:20260420T214949Z
NAME:Koorconcert Gorinchem destadgorinchem.nl
X-WR-CALNAME:Koorconcert Gorinchem
X-ALT-DESC;FMTTYPE=text/html:<a href='/agenda/2025/9/27/koorconcert-gorinchem-1197976'>/agenda/2025/9/27/koorconcert-gorinchem-1197976</a> || <p>Op D.V. 27 september a.s. vindt in de Grote Kerk te Gorinchem een koorzangavond plaats t.b.v. de Mbuma zending.&nbsp;</p><p>Deze organisatie ondersteund verschillende (zorg)instellingen in Zimbabwe.&nbsp;</p><p>Op deze avond zingt het&nbsp;Hollands&nbsp;Jongerenkoor, een koor van wel&nbsp;500 zangers, samen met het&nbsp;Hollands&nbsp;Jongeren Orkest onder leiding van dirigent Peter Wildeman.</p><p>Organist is Joost van Belzen, pianist Jaap Kramer en trompettist Wilhelm Groenendijk.&nbsp;</p><p>Verder werkt ook het Mannenensemble Yaron werkt aan deze avond mee, dat onder leiding staat van Ineke Bos- Strootman.Kaarten kunnen worden gereserveerd via www.peterwildeman.nl/concerten De avond begint om 19:30 en u bent van harte welkom!&nbsp;</p>
DESCRIPTION:<a href='/agenda/2025/9/27/koorconcert-gorinchem-1197976'>/agenda/2025/9/27/koorconcert-gorinchem-1197976</a> || <p>Op D.V. 27 september a.s. vindt in de Grote Kerk te Gorinchem een koorzangavond plaats t.b.v. de Mbuma zending.&nbsp;</p><p>Deze organisatie ondersteund verschillende (zorg)instellingen in Zimbabwe.&nbsp;</p><p>Op deze avond zingt het&nbsp;Hollands&nbsp;Jongerenkoor, een koor van wel&nbsp;500 zangers, samen met het&nbsp;Hollands&nbsp;Jongeren Orkest onder leiding van dirigent Peter Wildeman.</p><p>Organist is Joost van Belzen, pianist Jaap Kramer en trompettist Wilhelm Groenendijk.&nbsp;</p><p>Verder werkt ook het Mannenensemble Yaron werkt aan deze avond mee, dat onder leiding staat van Ineke Bos- Strootman.Kaarten kunnen worden gereserveerd via www.peterwildeman.nl/concerten De avond begint om 19:30 en u bent van harte welkom!&nbsp;</p>
LAST-MODIFIED:20260420T214949Z
LOCATION: Grote Kerk | Groenmarkt 7 Gorinchem
SEQUENCE:0
STATUS:CONFIRMED
SUMMARY:Koorconcert Gorinchem
TRANSP:OPAQUE
END:VEVENT
END:VCALENDAR
