BEGIN:VCALENDAR
PRODID:-//PUBBLE//agenda//NL
VERSION:2.0
METHOD:PUBLISH
BEGIN:VEVENT
DTSTART:20250920T120000Z
DTEND:20250920T130000Z
DTSTAMP:20260420T234021Z
UID:c03bca06-4f1b-46f4-a1fa-5047330c9501
CREATED:20260420T234021Z
NAME:Annejet van der Zijl vertelt over haar nieuwe boek bij Podium Grote Kerk Gorinchem destadgorinchem.nl
X-WR-CALNAME:Annejet van der Zijl vertelt over haar nieuwe boek bij Podium Grote Kerk Gorinchem
X-ALT-DESC;FMTTYPE=text/html:<a href='/agenda/2025/9/20/annejet-van-der-zijl-vertelt-over-haar-nieuwe-boek-bij-podium-grote-kerk-gorinchem-1201290'>/agenda/2025/9/20/annejet-van-der-zijl-vertelt-over-haar-nieuwe-boek-bij-podium-grote-kerk-gorinchem-1201290</a> || <p>Schrijfster Annejet van der Zijl vertelt over haar nieuwe boek ‘De zwevende wereld’ in een interview met Ivan Borghstijn van uitgever Van Oorschot. Na afloop kun je de auteur ontmoeten en zal Annejet signeren.</p><p>Podium Literair is een samenwerking tussen Podium Grote Kerk en de Gorinchemse boekhandels De Mandarijn en De Boekenkist.</p><p>Kaarten bestellen kan via&nbsp;<a href="https://podiumgrotekerk.nl/evenement/annejet-van-der-zijl/" target="_blank">https://podiumgrotekerk.nl/evenement/annejet-van-der-zijl/</a></p>
DESCRIPTION:<a href='/agenda/2025/9/20/annejet-van-der-zijl-vertelt-over-haar-nieuwe-boek-bij-podium-grote-kerk-gorinchem-1201290'>/agenda/2025/9/20/annejet-van-der-zijl-vertelt-over-haar-nieuwe-boek-bij-podium-grote-kerk-gorinchem-1201290</a> || <p>Schrijfster Annejet van der Zijl vertelt over haar nieuwe boek ‘De zwevende wereld’ in een interview met Ivan Borghstijn van uitgever Van Oorschot. Na afloop kun je de auteur ontmoeten en zal Annejet signeren.</p><p>Podium Literair is een samenwerking tussen Podium Grote Kerk en de Gorinchemse boekhandels De Mandarijn en De Boekenkist.</p><p>Kaarten bestellen kan via&nbsp;<a href="https://podiumgrotekerk.nl/evenement/annejet-van-der-zijl/" target="_blank">https://podiumgrotekerk.nl/evenement/annejet-van-der-zijl/</a></p>
LAST-MODIFIED:20260420T234021Z
LOCATION: Grote Kerk | Groenmarkt 7 Gorinchem
SEQUENCE:0
STATUS:CONFIRMED
SUMMARY:Annejet van der Zijl vertelt over haar nieuwe boek bij Podium Grote Kerk Gorinchem
TRANSP:OPAQUE
END:VEVENT
END:VCALENDAR
