BEGIN:VCALENDAR
PRODID:-//PUBBLE//agenda//NL
VERSION:2.0
METHOD:PUBLISH
BEGIN:VEVENT
DTSTART:20250905T093333Z
DTEND:20250905T103333Z
DTSTAMP:20260420T234022Z
UID:2133e29c-091f-42e4-b8d9-dd9d1a93e7dd
CREATED:20260420T234022Z
NAME:Theaterhuis Gorinchem speelt ‘de geschiedenis van de Familie Avenier’ destadgorinchem.nl
X-WR-CALNAME:Theaterhuis Gorinchem speelt ‘de geschiedenis van de Familie Avenier’
X-ALT-DESC;FMTTYPE=text/html:<a href='/agenda/2025/9/19/theaterhuis-gorinchem-speelt-de-geschiedenis-van-de-familie-avenier-1203005'>/agenda/2025/9/19/theaterhuis-gorinchem-speelt-de-geschiedenis-van-de-familie-avenier-1203005</a> || <p>’De Geschiedenis van de Familie Avenier’ is een toneelstuk van Maria Goos. In 4 delen volgt ze een arbeidersfamilie van de jaren 50 tot het jaar 2000. &nbsp;Theaterhuis Gorinchem speelt nu deel 3 op 19, 20 en 21 september in het Fortes Lyceum.<br /><br />Het is 1985. Janus Avenier – directeur van witgoedketen ‘Modern’, heeft het bedrijf verkocht. Veel van de familieleden hebben gewerkt in één van de vier filialen. Iedereen rekent dan ook op een aanzienlijk deel van de grote som geld die voor ‘Modern’ betaald is. Echter besluit Janus Avenier eerst het geld te gaan beleggen om zo nog meer winst te kunnen maken. Na de feestelijke afscheidsavond op het bedrijf vertrekken zij met zijn allen naar de camping, waar Janus bekend zal maken wie er wat krijgt. Tenminste, daar gaat men van uit…<br /><br />Hoe vergaat het de familie in een tijd van Materialisme en individualisering en hoe kijken deze mensen vervolgens terug op hun leven? Het Theaterhuis biedt met het stuk ‘een avond vol gezelligheid, typische familieverhoudingen en Nederlandstalige muziek’. De regie is in handen van Rick van Werd. De spelers zijn Loes van Leeuwen, Lida Hagenaars, Ianus Keller, Rob Latten, Marjan de Ruijter, Eric Schopman, Marieke Stout, Sander Kazen, Dinus van de Minkelis, Sebas de Hoogh en Amy van Tilborg. Met medewerking van Mirjam van den Bogaard, Mikka Korner, Bernard ‘O Herne, Tim van Werd en Izak Boom.<br /><br />De voorstellingen in het Fortes Lyceym zijn vrijdag 19 september om 20.00 uur; zaterdag 20 september om 14.30 en 20.00 uur. De laatste voorstelling is zondag 21 september om 20.00 uur. Tickets via: www.Theaterhuisgorinchem.nl</p>
DESCRIPTION:<a href='/agenda/2025/9/19/theaterhuis-gorinchem-speelt-de-geschiedenis-van-de-familie-avenier-1203005'>/agenda/2025/9/19/theaterhuis-gorinchem-speelt-de-geschiedenis-van-de-familie-avenier-1203005</a> || <p>’De Geschiedenis van de Familie Avenier’ is een toneelstuk van Maria Goos. In 4 delen volgt ze een arbeidersfamilie van de jaren 50 tot het jaar 2000. &nbsp;Theaterhuis Gorinchem speelt nu deel 3 op 19, 20 en 21 september in het Fortes Lyceum.<br /><br />Het is 1985. Janus Avenier – directeur van witgoedketen ‘Modern’, heeft het bedrijf verkocht. Veel van de familieleden hebben gewerkt in één van de vier filialen. Iedereen rekent dan ook op een aanzienlijk deel van de grote som geld die voor ‘Modern’ betaald is. Echter besluit Janus Avenier eerst het geld te gaan beleggen om zo nog meer winst te kunnen maken. Na de feestelijke afscheidsavond op het bedrijf vertrekken zij met zijn allen naar de camping, waar Janus bekend zal maken wie er wat krijgt. Tenminste, daar gaat men van uit…<br /><br />Hoe vergaat het de familie in een tijd van Materialisme en individualisering en hoe kijken deze mensen vervolgens terug op hun leven? Het Theaterhuis biedt met het stuk ‘een avond vol gezelligheid, typische familieverhoudingen en Nederlandstalige muziek’. De regie is in handen van Rick van Werd. De spelers zijn Loes van Leeuwen, Lida Hagenaars, Ianus Keller, Rob Latten, Marjan de Ruijter, Eric Schopman, Marieke Stout, Sander Kazen, Dinus van de Minkelis, Sebas de Hoogh en Amy van Tilborg. Met medewerking van Mirjam van den Bogaard, Mikka Korner, Bernard ‘O Herne, Tim van Werd en Izak Boom.<br /><br />De voorstellingen in het Fortes Lyceym zijn vrijdag 19 september om 20.00 uur; zaterdag 20 september om 14.30 en 20.00 uur. De laatste voorstelling is zondag 21 september om 20.00 uur. Tickets via: www.Theaterhuisgorinchem.nl</p>
LAST-MODIFIED:20260420T234022Z
LOCATION: Fortes Lyceum | wijdschildlaan 4 Gorinchem
SEQUENCE:0
STATUS:CONFIRMED
SUMMARY:Theaterhuis Gorinchem speelt ‘de geschiedenis van de Familie Avenier’
TRANSP:OPAQUE
END:VEVENT
END:VCALENDAR
