BEGIN:VCALENDAR
PRODID:-//PUBBLE//agenda//NL
VERSION:2.0
METHOD:PUBLISH
BEGIN:VEVENT
DTSTART:20250907T180344Z
DTEND:20250907T190344Z
DTSTAMP:20260420T215922Z
UID:0d47f618-f183-46bf-9090-a6e9746f6068
CREATED:20260420T215922Z
NAME:Jongerenkoor Tutti viert 50 jarig bestaan met een concert. destadgorinchem.nl
X-WR-CALNAME:Jongerenkoor Tutti viert 50 jarig bestaan met een concert.
X-ALT-DESC;FMTTYPE=text/html:<a href='/agenda/2025/9/27/jongerenkoor-tutti-viert-50-jarig-bestaan-met-een-concert--1203530'>/agenda/2025/9/27/jongerenkoor-tutti-viert-50-jarig-bestaan-met-een-concert--1203530</a> || <p>RK Jongerenkoor Tutti bestaat 50 jaar en geeft een concert op zaterdag 27 september in de Rehobothkerk in Gorinchem. Tijdens dit concert loopt het koor muzikaal de afgelopen 50 jaar langs. Het archief is op z’n kop gezet waardoor de koorleden een mooi repertoire hebben kunnen samenstellen. Onder leiding van dirigent Marcel van der Poel wordt het een leuke, nostalgische avond.&nbsp;</p><p>De deuren openen om 19.30 uur, het concert begint om 20.00 uur. Toegang is gratis, wel is er een collecte voor de onkosten.&nbsp;</p>
DESCRIPTION:<a href='/agenda/2025/9/27/jongerenkoor-tutti-viert-50-jarig-bestaan-met-een-concert--1203530'>/agenda/2025/9/27/jongerenkoor-tutti-viert-50-jarig-bestaan-met-een-concert--1203530</a> || <p>RK Jongerenkoor Tutti bestaat 50 jaar en geeft een concert op zaterdag 27 september in de Rehobothkerk in Gorinchem. Tijdens dit concert loopt het koor muzikaal de afgelopen 50 jaar langs. Het archief is op z’n kop gezet waardoor de koorleden een mooi repertoire hebben kunnen samenstellen. Onder leiding van dirigent Marcel van der Poel wordt het een leuke, nostalgische avond.&nbsp;</p><p>De deuren openen om 19.30 uur, het concert begint om 20.00 uur. Toegang is gratis, wel is er een collecte voor de onkosten.&nbsp;</p>
LAST-MODIFIED:20260420T215922Z
LOCATION: Rehobothkerk | Driekoningenweg 2 Gorinchem
SEQUENCE:0
STATUS:CONFIRMED
SUMMARY:Jongerenkoor Tutti viert 50 jarig bestaan met een concert.
TRANSP:OPAQUE
END:VEVENT
END:VCALENDAR
