BEGIN:VCALENDAR
PRODID:-//PUBBLE//agenda//NL
VERSION:2.0
METHOD:PUBLISH
BEGIN:VEVENT
DTSTART:20250927T130000Z
DTEND:20250927T170000Z
DTSTAMP:20260420T214949Z
UID:61c659f7-9d58-4efb-bb22-5363b2508abf
CREATED:20260420T214949Z
NAME:Burendag in de Haarwijk!! destadgorinchem.nl
X-WR-CALNAME:Burendag in de Haarwijk!!
X-ALT-DESC;FMTTYPE=text/html:<a href='/agenda/2025/9/27/burendag-in-de-haarwijk--1206271'>/agenda/2025/9/27/burendag-in-de-haarwijk--1206271</a> || <p>Kom Erbij Week met Burendag in de Haarwijk:&nbsp;</p><p>U kent de reclame van Douwe Egberts vast wel, waarbij buren bij elkaar komen om met elkaar een kopje koffie te drinken en elkaar beter te leren kennen.</p><p>Dat kan natuurlijk uitgebreider en daar hebben we in het Wijkcentrum de mogelijkheid toe.
Daarom nodigen wij u uit om mee te doen: mee te kletsen, mee te drinken en mee te eten.</p><p>Hoe leuk zou het zijn als u even contact opneemt als u ook iets mee wilt nemen of doen. Denk aan koffie meebrengen van thuis, frisdrank regelen of wat u ook maar bedenken kunt. Zo kunnen we de kosten laag houden.&nbsp;</p><p>Voor de barbecue met vlees, salades, sauzen en brood vragen wij u om een bijdrage van € 7,50. Met dieetwensen en/of halal wordt rekening gehouden.</p><p>En wat u kunt doen is natuurlijk uw buren motiveren om ook mee te gaan en &nbsp;mee te doen!!</p><p>Aanmelden is noodzakelijk. Mail daarvoor naar contact@rozenobel.nl of bel 06-18133489 (appen an ook) of loop even bij ons binnen.</p>
DESCRIPTION:<a href='/agenda/2025/9/27/burendag-in-de-haarwijk--1206271'>/agenda/2025/9/27/burendag-in-de-haarwijk--1206271</a> || <p>Kom Erbij Week met Burendag in de Haarwijk:&nbsp;</p><p>U kent de reclame van Douwe Egberts vast wel, waarbij buren bij elkaar komen om met elkaar een kopje koffie te drinken en elkaar beter te leren kennen.</p><p>Dat kan natuurlijk uitgebreider en daar hebben we in het Wijkcentrum de mogelijkheid toe.
Daarom nodigen wij u uit om mee te doen: mee te kletsen, mee te drinken en mee te eten.</p><p>Hoe leuk zou het zijn als u even contact opneemt als u ook iets mee wilt nemen of doen. Denk aan koffie meebrengen van thuis, frisdrank regelen of wat u ook maar bedenken kunt. Zo kunnen we de kosten laag houden.&nbsp;</p><p>Voor de barbecue met vlees, salades, sauzen en brood vragen wij u om een bijdrage van € 7,50. Met dieetwensen en/of halal wordt rekening gehouden.</p><p>En wat u kunt doen is natuurlijk uw buren motiveren om ook mee te gaan en &nbsp;mee te doen!!</p><p>Aanmelden is noodzakelijk. Mail daarvoor naar contact@rozenobel.nl of bel 06-18133489 (appen an ook) of loop even bij ons binnen.</p>
LAST-MODIFIED:20260420T214949Z
LOCATION: Wijkcentrum Rozenobel | Dukatenplein 2 Gorinchem
SEQUENCE:0
STATUS:CONFIRMED
SUMMARY:Burendag in de Haarwijk!!
TRANSP:OPAQUE
END:VEVENT
END:VCALENDAR
