BEGIN:VCALENDAR
PRODID:-//PUBBLE//agenda//NL
VERSION:2.0
METHOD:PUBLISH
BEGIN:VEVENT
DTSTART:20250926T174500Z
DTEND:20251219T184500Z
DTSTAMP:20260420T214948Z
UID:cb0411c0-c641-4a73-8774-fadf239ae5f3
CREATED:20260420T214948Z
NAME:Cursussen Argentijnse tango destadgorinchem.nl
X-WR-CALNAME:Cursussen Argentijnse tango
X-ALT-DESC;FMTTYPE=text/html:<a href='/agenda/2025/9/26/cursussen-argentijnse-tango-1207427'>/agenda/2025/9/26/cursussen-argentijnse-tango-1207427</a> || <p>Vanaf vrijdag 26 september wordt er weer gedanst bij Tango Jubilo met de vervolgcursussen Halfgevorderd en Gevorderd. Heb je danservaring in de Argentijnse tango dan kun je instromen. Dans op de vrijdagavond de werkweek van je af en ga energiek het weekend in bij onze gezellige tangoschool. De danslocatie is Buurthuis “De Aanlegsteiger”, Vissersdijk 30 in Gorinchem. Kijk op de website voor de mogelijkheden (www.tangojubilo.nl), of bel ons op: 06 - 33 101 525.</p>
DESCRIPTION:<a href='/agenda/2025/9/26/cursussen-argentijnse-tango-1207427'>/agenda/2025/9/26/cursussen-argentijnse-tango-1207427</a> || <p>Vanaf vrijdag 26 september wordt er weer gedanst bij Tango Jubilo met de vervolgcursussen Halfgevorderd en Gevorderd. Heb je danservaring in de Argentijnse tango dan kun je instromen. Dans op de vrijdagavond de werkweek van je af en ga energiek het weekend in bij onze gezellige tangoschool. De danslocatie is Buurthuis “De Aanlegsteiger”, Vissersdijk 30 in Gorinchem. Kijk op de website voor de mogelijkheden (www.tangojubilo.nl), of bel ons op: 06 - 33 101 525.</p>
LAST-MODIFIED:20260420T214948Z
LOCATION: Buurthuis de Aanlegsteiger | Viasersdijk 30 Gorinchem
SEQUENCE:0
STATUS:CONFIRMED
SUMMARY:Cursussen Argentijnse tango
TRANSP:OPAQUE
END:VEVENT
END:VCALENDAR
