BEGIN:VCALENDAR
PRODID:-//PUBBLE//agenda//NL
VERSION:2.0
METHOD:PUBLISH
BEGIN:VEVENT
DTSTART:20250930T141419Z
DTEND:20251011T110000Z
DTSTAMP:20260420T214948Z
UID:59d2a16b-2add-42f7-b36d-4f4295d693b2
CREATED:20260420T214948Z
NAME:Rommelmarkt Steijndeld destadgorinchem.nl
X-WR-CALNAME:Rommelmarkt Steijndeld
X-ALT-DESC;FMTTYPE=text/html:<a href='/agenda/2025/10/11/rommelmarkt-steijndeld-1211028'>/agenda/2025/10/11/rommelmarkt-steijndeld-1211028</a> || <p>[GORINCHEM] Zaterdag 11 oktober is er van 9.00 - 13.00 uur rommelmarkt in woonzorgcentrum Steijndeld aan de Kortendijk 72 te Gorinchem. Er worden tweedehands boeken, kleding, huishoudelijke artikelen etc verkocht. Ook is er een verloting waar prachtige prijzen zijn te winnen. De opbrengst komt ten goede aan de bewoners van Steijndeld.&nbsp;</p>
DESCRIPTION:<a href='/agenda/2025/10/11/rommelmarkt-steijndeld-1211028'>/agenda/2025/10/11/rommelmarkt-steijndeld-1211028</a> || <p>[GORINCHEM] Zaterdag 11 oktober is er van 9.00 - 13.00 uur rommelmarkt in woonzorgcentrum Steijndeld aan de Kortendijk 72 te Gorinchem. Er worden tweedehands boeken, kleding, huishoudelijke artikelen etc verkocht. Ook is er een verloting waar prachtige prijzen zijn te winnen. De opbrengst komt ten goede aan de bewoners van Steijndeld.&nbsp;</p>
LAST-MODIFIED:20260420T214948Z
LOCATION: Woonzorgcentrum Steijndeld | Kortendijk 72 Gorinchem
SEQUENCE:0
STATUS:CONFIRMED
SUMMARY:Rommelmarkt Steijndeld
TRANSP:OPAQUE
END:VEVENT
END:VCALENDAR
