BEGIN:VCALENDAR
PRODID:-//PUBBLE//agenda//NL
VERSION:2.0
METHOD:PUBLISH
BEGIN:VEVENT
DTSTART:20251005T142903Z
DTEND:20251005T152903Z
DTSTAMP:20260420T182605Z
UID:c794b028-0c2f-465b-b492-eb4a2591ed5a
CREATED:20260420T182605Z
NAME:De Gorinchemse Platenmarkt in De Luisterpost destadgorinchem.nl
X-WR-CALNAME:De Gorinchemse Platenmarkt in De Luisterpost
X-ALT-DESC;FMTTYPE=text/html:<a href='/agenda/2025/11/2/de-gorinchemse-platenmarkt-in-de-luisterpost-1212532'>/agenda/2025/11/2/de-gorinchemse-platenmarkt-in-de-luisterpost-1212532</a> || <p>In zaal De Luisterpost in Gorinchem wordt zondag 2 november vanaf 11.00 uur weer een gezellige platen- en cd-markt gehouden. Deelnemers uit binnen- en buitenland zullen tientallen tafels vullen met lp’s, cd’s en singles. Er is die dag voor iedereen wat te vinden, in alle prijsklassen: van blues tot hardrock en van Hollands tot house. De toegang is gratis.</p><p>De Gorinchemse Platenmarkt vindt plaats in De Luisterpost, Vijfde Uitgang 1, Gorinchem.</p>
DESCRIPTION:<a href='/agenda/2025/11/2/de-gorinchemse-platenmarkt-in-de-luisterpost-1212532'>/agenda/2025/11/2/de-gorinchemse-platenmarkt-in-de-luisterpost-1212532</a> || <p>In zaal De Luisterpost in Gorinchem wordt zondag 2 november vanaf 11.00 uur weer een gezellige platen- en cd-markt gehouden. Deelnemers uit binnen- en buitenland zullen tientallen tafels vullen met lp’s, cd’s en singles. Er is die dag voor iedereen wat te vinden, in alle prijsklassen: van blues tot hardrock en van Hollands tot house. De toegang is gratis.</p><p>De Gorinchemse Platenmarkt vindt plaats in De Luisterpost, Vijfde Uitgang 1, Gorinchem.</p>
LAST-MODIFIED:20260420T182605Z
LOCATION: De Luisterpost | Vijfde Uitgang 1 Gorinchem
SEQUENCE:0
STATUS:CONFIRMED
SUMMARY:De Gorinchemse Platenmarkt in De Luisterpost
TRANSP:OPAQUE
END:VEVENT
END:VCALENDAR
