BEGIN:VCALENDAR
PRODID:-//PUBBLE//agenda//NL
VERSION:2.0
METHOD:PUBLISH
BEGIN:VEVENT
DTSTART:20251101T080000Z
DTEND:20251101T130000Z
DTSTAMP:20260420T182046Z
UID:7181b596-35e2-4e4e-98ce-35b5adb2ef5d
CREATED:20260420T182046Z
NAME:Kledingbeurs destadgorinchem.nl
X-WR-CALNAME:Kledingbeurs
X-ALT-DESC;FMTTYPE=text/html:<a href='/agenda/2025/11/1/kledingbeurs-1218093'>/agenda/2025/11/1/kledingbeurs-1218093</a> || <p>KLEDINGBEURS</p><p>Op zaterdag 1 november 2025 van 10.00 – 15.00 uur</p><p>Plaats: In de Loods van GAiN - ’t Zand 14a - (achter de Hubo) Sleeuwijk</p><p>Verkoop van:&nbsp;</p><p>(Nieuwe) Dames- heren en kinderkleding</p><p>Sieraden, sjaals, riemen en tassen</p><p>Sneakers, laarzen en schoenen</p><p>Let op: U kunt contant betalen of met een QR-code&nbsp;</p><p>U bent van harte welkom</p><p>De opbrengst wordt gebruikt voor transporten van hulpgoederen.</p>
DESCRIPTION:<a href='/agenda/2025/11/1/kledingbeurs-1218093'>/agenda/2025/11/1/kledingbeurs-1218093</a> || <p>KLEDINGBEURS</p><p>Op zaterdag 1 november 2025 van 10.00 – 15.00 uur</p><p>Plaats: In de Loods van GAiN - ’t Zand 14a - (achter de Hubo) Sleeuwijk</p><p>Verkoop van:&nbsp;</p><p>(Nieuwe) Dames- heren en kinderkleding</p><p>Sieraden, sjaals, riemen en tassen</p><p>Sneakers, laarzen en schoenen</p><p>Let op: U kunt contant betalen of met een QR-code&nbsp;</p><p>U bent van harte welkom</p><p>De opbrengst wordt gebruikt voor transporten van hulpgoederen.</p>
LAST-MODIFIED:20260420T182046Z
LOCATION: Sleeuwijk | Notenlaan 65 
SEQUENCE:0
STATUS:CONFIRMED
SUMMARY:Kledingbeurs
TRANSP:OPAQUE
END:VEVENT
END:VCALENDAR
