BEGIN:VCALENDAR
PRODID:-//PUBBLE//agenda//NL
VERSION:2.0
METHOD:PUBLISH
BEGIN:VEVENT
DTSTART:20251024T101011Z
DTEND:20251024T111011Z
DTSTAMP:20260420T182521Z
UID:83cd8e96-8164-43b7-b5ba-309a348e0df6
CREATED:20260420T182521Z
NAME:Veteranencafé Vesting Gorinchem en omstreken destadgorinchem.nl
X-WR-CALNAME:Veteranencafé Vesting Gorinchem en omstreken
X-ALT-DESC;FMTTYPE=text/html:<a href='/agenda/2025/11/1/veteranencafe-vesting-gorinchem-en-omstreken-1218377'>/agenda/2025/11/1/veteranencafe-vesting-gorinchem-en-omstreken-1218377</a> || <p>Zaterdag 1 november is er van 14.00 tot 17.00 uur weer Veteranencafé Gorinchem e.o. in ‘De Bunker’ aan de Vijfde Uitgang 3-5 in Gorinchem..</p><p>Veteranen, actief dienende- en gewezen militairen, politie-, brandweer- , ambulancepersoneel en personeel van overige geüniformeerde diensten en belangstellenden zijn van harte welkom met eventuele partner en/of gezin.&nbsp;</p><p>Het Veteranencafé Gorinchem en omstreken vindt plaats op elke eerste zaterdag van de maand op genoemde locatie.</p>
DESCRIPTION:<a href='/agenda/2025/11/1/veteranencafe-vesting-gorinchem-en-omstreken-1218377'>/agenda/2025/11/1/veteranencafe-vesting-gorinchem-en-omstreken-1218377</a> || <p>Zaterdag 1 november is er van 14.00 tot 17.00 uur weer Veteranencafé Gorinchem e.o. in ‘De Bunker’ aan de Vijfde Uitgang 3-5 in Gorinchem..</p><p>Veteranen, actief dienende- en gewezen militairen, politie-, brandweer- , ambulancepersoneel en personeel van overige geüniformeerde diensten en belangstellenden zijn van harte welkom met eventuele partner en/of gezin.&nbsp;</p><p>Het Veteranencafé Gorinchem en omstreken vindt plaats op elke eerste zaterdag van de maand op genoemde locatie.</p>
LAST-MODIFIED:20260420T182521Z
LOCATION: de Bunker | Vijfde Uitgang 3-5 Gorinchem
SEQUENCE:0
STATUS:CONFIRMED
SUMMARY:Veteranencafé Vesting Gorinchem en omstreken
TRANSP:OPAQUE
END:VEVENT
END:VCALENDAR
